BEGIN:VCALENDAR
VERSION:2.0
PRODID:-//TCADP - ECPv6.15.15//NONSGML v1.0//EN
CALSCALE:GREGORIAN
METHOD:PUBLISH
X-WR-CALNAME:TCADP
X-ORIGINAL-URL:https://tcadp.org
X-WR-CALDESC:Events for TCADP
REFRESH-INTERVAL;VALUE=DURATION:PT1H
X-Robots-Tag:noindex
X-PUBLISHED-TTL:PT1H
BEGIN:VTIMEZONE
TZID:America/Chicago
BEGIN:DAYLIGHT
TZOFFSETFROM:-0600
TZOFFSETTO:-0500
TZNAME:CDT
DTSTART:20160313T080000
END:DAYLIGHT
BEGIN:STANDARD
TZOFFSETFROM:-0500
TZOFFSETTO:-0600
TZNAME:CST
DTSTART:20161106T070000
END:STANDARD
BEGIN:DAYLIGHT
TZOFFSETFROM:-0600
TZOFFSETTO:-0500
TZNAME:CDT
DTSTART:20170312T080000
END:DAYLIGHT
BEGIN:STANDARD
TZOFFSETFROM:-0500
TZOFFSETTO:-0600
TZNAME:CST
DTSTART:20171105T070000
END:STANDARD
BEGIN:DAYLIGHT
TZOFFSETFROM:-0600
TZOFFSETTO:-0500
TZNAME:CDT
DTSTART:20180311T080000
END:DAYLIGHT
BEGIN:STANDARD
TZOFFSETFROM:-0500
TZOFFSETTO:-0600
TZNAME:CST
DTSTART:20181104T070000
END:STANDARD
END:VTIMEZONE
BEGIN:VEVENT
DTSTART;TZID=America/Chicago:20171011T193000
DTEND;TZID=America/Chicago:20171011T210000
DTSTAMP:20260420T131428
CREATED:20170817T145737Z
LAST-MODIFIED:20170817T145737Z
UID:9710-1507750200-1507755600@tcadp.org
SUMMARY:Anthony Graves at St. Ignatius of Loyola Catholic Church
DESCRIPTION:St. Ignatius of Loyola Parish is hosting an event featuring speaker Anthony Graves and Deacon Richard Lopez on October 11\, 2017 at 7:30PM. 
URL:https://tcadp.org/event/anthony-graves-at-st-ignatius-of-loyola-catholic-church/
LOCATION:St. Ignatius of Loyola\, 7810 Cypresswood\, Spring\, TX\, 77379\, United States
CATEGORIES:Houston-Area,Speaking Event
ATTACH;FMTTYPE=image/jpeg:https://tcadp.org/wp-content/uploads/2017/08/unnamed.jpg
END:VEVENT
END:VCALENDAR